BEGIN:VCALENDAR
VERSION:2.0
PRODID:-//Coffey County Library - ECPv6.15.20//NONSGML v1.0//EN
CALSCALE:GREGORIAN
METHOD:PUBLISH
X-WR-CALNAME:Coffey County Library
X-ORIGINAL-URL:https://cclibks.org
X-WR-CALDESC:Events for Coffey County Library
REFRESH-INTERVAL;VALUE=DURATION:PT1H
X-Robots-Tag:noindex
X-PUBLISHED-TTL:PT1H
BEGIN:VTIMEZONE
TZID:America/Chicago
BEGIN:DAYLIGHT
TZOFFSETFROM:-0600
TZOFFSETTO:-0500
TZNAME:CDT
DTSTART:20250309T080000
END:DAYLIGHT
BEGIN:STANDARD
TZOFFSETFROM:-0500
TZOFFSETTO:-0600
TZNAME:CST
DTSTART:20251102T070000
END:STANDARD
BEGIN:DAYLIGHT
TZOFFSETFROM:-0600
TZOFFSETTO:-0500
TZNAME:CDT
DTSTART:20260308T080000
END:DAYLIGHT
BEGIN:STANDARD
TZOFFSETFROM:-0500
TZOFFSETTO:-0600
TZNAME:CST
DTSTART:20261101T070000
END:STANDARD
BEGIN:DAYLIGHT
TZOFFSETFROM:-0600
TZOFFSETTO:-0500
TZNAME:CDT
DTSTART:20270314T080000
END:DAYLIGHT
BEGIN:STANDARD
TZOFFSETFROM:-0500
TZOFFSETTO:-0600
TZNAME:CST
DTSTART:20271107T070000
END:STANDARD
END:VTIMEZONE
BEGIN:VEVENT
DTSTART;TZID=America/Chicago:20260417T090000
DTEND;TZID=America/Chicago:20260417T100000
DTSTAMP:20260417T200941
CREATED:20250404T212917Z
LAST-MODIFIED:20250404T212917Z
UID:10029645-1776416400-1776420000@cclibks.org
SUMMARY:Exercise Class
DESCRIPTION:Lebo Branch is hosting an exercise class for adults each Monday and Friday from 9-10 a.m. through May 10th!! We use hand and ankle weights with a slow lifting technique to maximize muscle growth and retention.  The exercises are meant to improve balance and flexibility as well!! We also do a little dancing and have a lot of fun!!  There is no cost to participate. Leg weights and some hand weights are available to use during the class! We’d love it if you could join us and give the class a try!!
URL:https://cclibks.org/event/exercise-class/2026-04-17/
LOCATION:Lebo Branch\, 327 Ogden\, Lebo\, KS\, 66856\, United States
CATEGORIES:Lebo
ATTACH;FMTTYPE=image/jpeg:https://cclibks.org/wp-content/uploads/2024/08/Adult-Exercise-Class-Lebo.jpg
ORGANIZER;CN="Lebo Branch":MAILTO:Lebo@cclibks.org
END:VEVENT
BEGIN:VEVENT
DTSTART;TZID=America/Chicago:20260417T110000
DTEND;TZID=America/Chicago:20260417T120000
DTSTAMP:20260417T200941
CREATED:20250217T195555Z
LAST-MODIFIED:20260406T170332Z
UID:10029785-1776423600-1776427200@cclibks.org
SUMMARY:Friday Fun!
DESCRIPTION:Join us at the Gridley Library to read stories and create fun crafts! All ages are welcome!
URL:https://cclibks.org/event/friday-fun-20/2026-04-17/
LOCATION:Gridley Branch\, 512 Main\, Gridley\, KS\, 66852\, United States
CATEGORIES:Gridley
ATTACH;FMTTYPE=image/png:https://cclibks.org/wp-content/uploads/2025/02/Friday-Fun.png
ORGANIZER;CN="Gridley Branch":MAILTO:Gridley@cclibks.org
END:VEVENT
BEGIN:VEVENT
DTSTART;TZID=America/Chicago:20260417T133000
DTEND;TZID=America/Chicago:20260417T143000
DTSTAMP:20260417T200941
CREATED:20260325T194511Z
LAST-MODIFIED:20260325T194511Z
UID:10033324-1776432600-1776436200@cclibks.org
SUMMARY:Snack Bites
DESCRIPTION:Join us in making snack bites Friday\, April 17th @1:30 PM. \nAge: Youth
URL:https://cclibks.org/event/snack-bites/
LOCATION:LeRoy Branch\, 725 Main\, LeRoy\, KS\, 66857\, United States
CATEGORIES:LeRoy
ATTACH;FMTTYPE=image/jpeg:https://cclibks.org/wp-content/uploads/2026/03/APRIL-SNACK-BITES.jpg
ORGANIZER;CN="LeRoy Branch":MAILTO:LeRoy@cclibks.org
END:VEVENT
BEGIN:VEVENT
DTSTART;TZID=America/Chicago:20260420T090000
DTEND;TZID=America/Chicago:20260420T100000
DTSTAMP:20260417T200941
CREATED:20250404T213600Z
LAST-MODIFIED:20250614T152842Z
UID:10029697-1776675600-1776679200@cclibks.org
SUMMARY:Exercise
DESCRIPTION:Lebo Branch is hosting an exercise class for adults each Monday and Friday from 9-10 a.m. through May 10th!! We use hand and ankle weights with a slow lifting technique to maximize muscle growth and retention.  The exercises are meant to improve balance and flexibility as well!! We also do a little dancing and have a lot of fun!!  There is no cost to participate. Leg weights and some hand weights are available to use during the class! We’d love it if you could join us and give the class a try!!
URL:https://cclibks.org/event/exercise/2026-04-20/
LOCATION:Lebo Branch\, 327 Ogden\, Lebo\, KS\, 66856\, United States
CATEGORIES:Lebo
ATTACH;FMTTYPE=image/jpeg:https://cclibks.org/wp-content/uploads/2024/08/Adult-Exercise-Class-Lebo.jpg
ORGANIZER;CN="Lebo Branch":MAILTO:Lebo@cclibks.org
END:VEVENT
BEGIN:VEVENT
DTSTART;TZID=America/Chicago:20260420T090000
DTEND;TZID=America/Chicago:20260420T170000
DTSTAMP:20260417T200941
CREATED:20260324T172653Z
LAST-MODIFIED:20260324T172653Z
UID:10033255-1776675600-1776704400@cclibks.org
SUMMARY:Find Your Joy: National Library Week
DESCRIPTION:Celebrate the joy of the library with the Burlington Branch each day this week! Come to the branch bringing or wearing the designated day’s “joy” to get a picture with us and a little special treat to help spread more joy! \n\nMonday: Anything but a cup. Bring your drink using anything but a typical cup! How creative can you be?\nTuesday: Wear your library’s special color – Burlington’s color is red\nWednesday: Favorite book character\nThursday: Graphic Ts – favorite band\, super hero or…\nFriday: Jammie day!
URL:https://cclibks.org/event/find-your-joy-national-library-week/
LOCATION:Burlington Branch\, 410 Juniatta\, Burlington\, KS\, 66839\, United States
CATEGORIES:Burlington
ATTACH;FMTTYPE=image/png:https://cclibks.org/wp-content/uploads/2026/03/Help-us-celebrate-natl-lib-wk-webcal-20-24.png
ORGANIZER;CN="Burlington Branch":MAILTO:Burlington@cclibks.org
END:VEVENT
BEGIN:VEVENT
DTSTART;TZID=America/Chicago:20260420T100000
DTEND;TZID=America/Chicago:20260420T103000
DTSTAMP:20260417T200941
CREATED:20260225T195528Z
LAST-MODIFIED:20260225T195541Z
UID:10033057-1776679200-1776681000@cclibks.org
SUMMARY:Family Storytime
DESCRIPTION:Stories and songs for kids of all ages. Bring the whole family.
URL:https://cclibks.org/event/family-storytime/2026-04-20/
LOCATION:New Strawn Branch\, 365 N Main\, New Strawn\, KS\, 66839\, United States
CATEGORIES:New Strawn
ORGANIZER;CN="New Strawn Branch":MAILTO:NewStrawn@cclibks.org
END:VEVENT
BEGIN:VEVENT
DTSTART;TZID=America/Chicago:20260420T110000
DTEND;TZID=America/Chicago:20260420T120000
DTSTAMP:20260417T200941
CREATED:20260325T142307Z
LAST-MODIFIED:20260325T142307Z
UID:10033314-1776682800-1776686400@cclibks.org
SUMMARY:Make & Take Craft
DESCRIPTION:Pipecleaner Flowers\nPlease call 620-364-8910 to register
URL:https://cclibks.org/event/make-take-craft-4-26/
LOCATION:New Strawn Branch\, 365 N Main\, New Strawn\, KS\, 66839\, United States
CATEGORIES:New Strawn
ATTACH;FMTTYPE=image/png:https://cclibks.org/wp-content/uploads/2026/03/MakeTake-April.png
ORGANIZER;CN="New Strawn Branch":MAILTO:NewStrawn@cclibks.org
END:VEVENT
BEGIN:VEVENT
DTSTART;TZID=America/Chicago:20260420T162000
DTEND;TZID=America/Chicago:20260420T170000
DTSTAMP:20260417T200941
CREATED:20250707T195140Z
LAST-MODIFIED:20260217T190820Z
UID:10030672-1776702000-1776704400@cclibks.org
SUMMARY:Teen Remix!
DESCRIPTION:6th-12th grade students are invited to join Ariel for this fun program! Snacks are provided along with a fun craft or activity!
URL:https://cclibks.org/event/teen-remix-20/2026-04-20/
LOCATION:Gridley Branch\, 512 Main\, Gridley\, KS\, 66852\, United States
CATEGORIES:Gridley
ATTACH;FMTTYPE=image/png:https://cclibks.org/wp-content/uploads/2025/02/Teen-Remix.png
ORGANIZER;CN="Gridley Branch":MAILTO:Gridley@cclibks.org
END:VEVENT
BEGIN:VEVENT
DTSTART;TZID=America/Chicago:20260421T083000
DTEND;TZID=America/Chicago:20260421T093000
DTSTAMP:20260417T200941
CREATED:20251008T175801Z
LAST-MODIFIED:20251009T150559Z
UID:10031188-1776760200-1776763800@cclibks.org
SUMMARY:Lebo Nurse
DESCRIPTION:Free blood pressure checks. Other services available for a fee. Contact the Health Department with any questions.
URL:https://cclibks.org/event/lebo-nurse-4/2026-04-21/
LOCATION:Lebo Branch\, 327 Ogden\, Lebo\, KS\, 66856\, United States
CATEGORIES:Lebo
ATTACH;FMTTYPE=image/jpeg:https://cclibks.org/wp-content/uploads/2025/09/830-930-a.m.jpg
ORGANIZER;CN="Lebo Branch":MAILTO:Lebo@cclibks.org
END:VEVENT
BEGIN:VEVENT
DTSTART;TZID=America/Chicago:20260421T100000
DTEND;TZID=America/Chicago:20260421T110000
DTSTAMP:20260417T200941
CREATED:20260325T193252Z
LAST-MODIFIED:20260325T193252Z
UID:10033320-1776765600-1776769200@cclibks.org
SUMMARY:Craft & Chat
DESCRIPTION:Age: 18+ \nJoin us at 10 am on April 21st to Craft and Chat and make a Wood Straw Door Hanger. Stop in at the LeRoy Library or call to save your spot! Supplies are limited. \n10 SPOTS OPEN
URL:https://cclibks.org/event/craft-chat-5-2-2-2/
LOCATION:LeRoy Branch\, 725 Main\, LeRoy\, KS\, 66857\, United States
CATEGORIES:LeRoy
ATTACH;FMTTYPE=image/jpeg:https://cclibks.org/wp-content/uploads/2026/03/APRIL-ADULT-CRAFT.jpg
ORGANIZER;CN="LeRoy Branch":MAILTO:LeRoy@cclibks.org
END:VEVENT
BEGIN:VEVENT
DTSTART;TZID=America/Chicago:20260421T103000
DTEND;TZID=America/Chicago:20260421T110000
DTSTAMP:20260417T200941
CREATED:20251008T175400Z
LAST-MODIFIED:20251008T175400Z
UID:10031177-1776767400-1776769200@cclibks.org
SUMMARY:Ms. Patt's Story Time!!
DESCRIPTION:Ms. Patt leads a story time for children birth to Pre-K on Tuesdays at 10:30 a.m! There will be singing\, stories\, snacks\, and so much fun!! You don’t want to miss it!!
URL:https://cclibks.org/event/ms-patts-story-time/2026-04-21/
LOCATION:Lebo Branch\, 327 Ogden\, Lebo\, KS\, 66856\, United States
CATEGORIES:Lebo
ATTACH;FMTTYPE=image/png:https://cclibks.org/wp-content/uploads/2025/10/story-time-scaled.png
ORGANIZER;CN="Lebo Branch":MAILTO:Lebo@cclibks.org
END:VEVENT
BEGIN:VEVENT
DTSTART;TZID=America/Chicago:20260421T110000
DTEND;TZID=America/Chicago:20260421T120000
DTSTAMP:20260417T200941
CREATED:20260225T205955Z
LAST-MODIFIED:20260325T140445Z
UID:10033286-1776769200-1776772800@cclibks.org
SUMMARY:Ask Me Anything @ 11th LN
DESCRIPTION:Meet Melanie at 11th Lane Roastery for coffee and answers to your burning library questions.
URL:https://cclibks.org/event/ask-me-anything-11th-ln/2026-04-21/
LOCATION:New Strawn Branch\, 365 N Main\, New Strawn\, KS\, 66839\, United States
CATEGORIES:New Strawn
ORGANIZER;CN="New Strawn Branch":MAILTO:NewStrawn@cclibks.org
END:VEVENT
BEGIN:VEVENT
DTSTART;TZID=America/Chicago:20260421T140000
DTEND;TZID=America/Chicago:20260421T150000
DTSTAMP:20260417T200941
CREATED:20251128T151229Z
LAST-MODIFIED:20260321T163415Z
UID:10031334-1776780000-1776783600@cclibks.org
SUMMARY:Streams to Rivers
DESCRIPTION:The Streams to Rivers Intergenerational group will meet at 2:00p.m. and participate in the “Gray For A Day” program provided by Cassidy Collins at K-State Research & Extension – Coffey County. The “Gray For A Day” program helps children learn what it may be like as adults grow older and experience sensory decline. Sensory decline could mean issues with eyesight\, hearing\, balance\, etc. This program is in collaboration with Mrs. Morray’s 2nd grade class. Any adult is welcome!
URL:https://cclibks.org/event/streams-to-rivers-15/
LOCATION:Gridley Branch\, 512 Main\, Gridley\, KS\, 66852\, United States
CATEGORIES:Gridley
ATTACH;FMTTYPE=image/png:https://cclibks.org/wp-content/uploads/2023/10/Streams-to-Rivers.png
ORGANIZER;CN="Gridley Branch":MAILTO:Gridley@cclibks.org
END:VEVENT
BEGIN:VEVENT
DTSTART;TZID=America/Chicago:20260421T140000
DTEND;TZID=America/Chicago:20260421T150000
DTSTAMP:20260417T200941
CREATED:20260122T223401Z
LAST-MODIFIED:20260122T223402Z
UID:10029551-1776780000-1776783600@cclibks.org
SUMMARY:Yak & Yarn
DESCRIPTION:Bring your current work-in-progress to the New Strawn Branch and have some fun and conversation on Tuesdays at 2pm. All fiber arts crafters are welcome!
URL:https://cclibks.org/event/yak-yarn-3-2-2-2-2-2-2-2-2-2-2/2026-04-21/
LOCATION:New Strawn Branch\, 365 N Main\, New Strawn\, KS\, 66839\, United States
CATEGORIES:New Strawn
ATTACH;FMTTYPE=image/png:https://cclibks.org/wp-content/uploads/2025/12/Yak-Yarn-webcal-02.png
ORGANIZER;CN="New Strawn Branch":MAILTO:NewStrawn@cclibks.org
END:VEVENT
BEGIN:VEVENT
DTSTART;TZID=America/Chicago:20260421T153000
DTEND;TZID=America/Chicago:20260421T170000
DTSTAMP:20260417T200941
CREATED:20260225T193505Z
LAST-MODIFIED:20260225T193505Z
UID:10032625-1776785400-1776790800@cclibks.org
SUMMARY:Art In The Afternoon
DESCRIPTION:Art program for ages 10+\nNo artistic skill required.\nPlease call 620-364-8910 to register.
URL:https://cclibks.org/event/art-in-the-afternoon/2026-04-21/
LOCATION:New Strawn Branch\, 365 N Main\, New Strawn\, KS\, 66839\, United States
CATEGORIES:New Strawn
ORGANIZER;CN="New Strawn Branch":MAILTO:NewStrawn@cclibks.org
END:VEVENT
BEGIN:VEVENT
DTSTART;TZID=America/Chicago:20260421T170000
DTEND;TZID=America/Chicago:20260421T180000
DTSTAMP:20260417T200941
CREATED:20260309T210350Z
LAST-MODIFIED:20260311T215135Z
UID:10033194-1776790800-1776794400@cclibks.org
SUMMARY:Social Club
DESCRIPTION:The Social Club (formerly Yak & Yarn) is for adults who want to come together and share experences\, inspire and encourage each other through relaxed and fun conversations. Feel free to bring a project/craft/activity you are working on at home to do while you chat! The Social Club meets every Tuesday at 5pm at the Burlington Branch.
URL:https://cclibks.org/event/social-club/2026-04-21/
LOCATION:Burlington Branch\, 410 Juniatta\, Burlington\, KS\, 66839\, United States
CATEGORIES:Burlington
ATTACH;FMTTYPE=image/jpeg:https://cclibks.org/wp-content/uploads/2026/03/Social-Club-Webcal-Tuesdays.jpg
ORGANIZER;CN="Burlington Branch":MAILTO:Burlington@cclibks.org
END:VEVENT
BEGIN:VEVENT
DTSTART;TZID=America/Chicago:20260422T093000
DTEND;TZID=America/Chicago:20260422T100000
DTSTAMP:20260417T200941
CREATED:20260324T200634Z
LAST-MODIFIED:20260324T200635Z
UID:10033138-1776850200-1776852000@cclibks.org
SUMMARY:Wee Wigglers Story Time
DESCRIPTION:Join us at the Burlington Branch for short books\, finger snacks\, and toddler playtimes with Miss Tammy!
URL:https://cclibks.org/event/wee-wigglers-story-time-2-2/2026-04-22/
LOCATION:Burlington Branch\, 410 Juniatta\, Burlington\, KS\, 66839\, United States
CATEGORIES:Burlington
ATTACH;FMTTYPE=image/png:https://cclibks.org/wp-content/uploads/2026/03/Wee-Wigglers-04-webcal.png
ORGANIZER;CN="Burlington Branch":MAILTO:Burlington@cclibks.org
END:VEVENT
BEGIN:VEVENT
DTSTART;TZID=America/Chicago:20260422T100000
DTEND;TZID=America/Chicago:20260422T110000
DTSTAMP:20260417T200941
CREATED:20251226T175432Z
LAST-MODIFIED:20260130T211748Z
UID:10032477-1776852000-1776855600@cclibks.org
SUMMARY:Children's Storytime
DESCRIPTION:Join us for Storytime\, fun and songs Wednesday mornings at 10:00 a.m.
URL:https://cclibks.org/event/childrens-storytime/2026-04-22/
LOCATION:LeRoy Branch\, 725 Main\, LeRoy\, KS\, 66857\, United States
CATEGORIES:LeRoy
ATTACH;FMTTYPE=image/jpeg:https://cclibks.org/wp-content/uploads/2025/12/WEBSITE-STORY-TIME-1.jpg
ORGANIZER;CN="LeRoy Branch":MAILTO:LeRoy@cclibks.org
END:VEVENT
BEGIN:VEVENT
DTSTART;TZID=America/Chicago:20260422T110000
DTEND;TZID=America/Chicago:20260422T120000
DTSTAMP:20260417T200941
CREATED:20250109T155842Z
LAST-MODIFIED:20260406T171924Z
UID:10029509-1776855600-1776859200@cclibks.org
SUMMARY:Storytime!
DESCRIPTION:Join Colleen for stories\, games\, songs\, fingerplays\, and crafts for littles aged 0-5 years old!
URL:https://cclibks.org/event/storytime-35/2026-04-22/
LOCATION:Gridley Branch\, 512 Main\, Gridley\, KS\, 66852\, United States
CATEGORIES:Gridley
ATTACH;FMTTYPE=image/png:https://cclibks.org/wp-content/uploads/2025/02/Storytime.png
ORGANIZER;CN="Gridley Branch":MAILTO:Gridley@cclibks.org
END:VEVENT
BEGIN:VEVENT
DTSTART;TZID=America/Chicago:20260422T160000
DTEND;TZID=America/Chicago:20260422T170000
DTSTAMP:20260417T200941
CREATED:20250707T194749Z
LAST-MODIFIED:20250707T194749Z
UID:10030624-1776873600-1776877200@cclibks.org
SUMMARY:Afterschool Fun!
DESCRIPTION:Join Ariel after school to read stories\, eat yummy snacks\, and create fun crafts! K-5th grade students welcome!
URL:https://cclibks.org/event/afterschool-fun-20/2026-04-22/
LOCATION:Gridley Branch\, 512 Main\, Gridley\, KS\, 66852\, United States
CATEGORIES:Gridley
ATTACH;FMTTYPE=image/png:https://cclibks.org/wp-content/uploads/2025/02/Afterschool-Fun.png
ORGANIZER;CN="Gridley Branch":MAILTO:Gridley@cclibks.org
END:VEVENT
BEGIN:VEVENT
DTSTART;TZID=America/Chicago:20260422T163000
DTEND;TZID=America/Chicago:20260422T173000
DTSTAMP:20260417T200941
CREATED:20250409T165723Z
LAST-MODIFIED:20260130T210957Z
UID:10032421-1776875400-1776879000@cclibks.org
SUMMARY:Teen Escape
DESCRIPTION:Join Vanessa at 4:30 P.M. on Wednesdays!  Hang out with your friends\, make a tasty treat\, or do an awesome activity! For grades 6th – 12th.
URL:https://cclibks.org/event/teen-escape-2/2026-04-22/
LOCATION:LeRoy Branch\, 725 Main\, LeRoy\, KS\, 66857\, United States
CATEGORIES:LeRoy
ATTACH;FMTTYPE=image/jpeg:https://cclibks.org/wp-content/uploads/2025/07/TEEN-ESCAPE-2025-1.jpg
ORGANIZER;CN="LeRoy Branch":MAILTO:LeRoy@cclibks.org
END:VEVENT
BEGIN:VEVENT
DTSTART;TZID=America/Chicago:20260422T173000
DTEND;TZID=America/Chicago:20260422T183000
DTSTAMP:20260417T200941
CREATED:20260324T200345Z
LAST-MODIFIED:20260326T172258Z
UID:10033359-1776879000-1776882600@cclibks.org
SUMMARY:Chess Club
DESCRIPTION:Chess Club at the Burlington Branch library meets each week at 5:30pm on Wednesdays. All ages and skill levels are welcome.
URL:https://cclibks.org/event/chess-club/2026-04-22/
LOCATION:Burlington Branch\, 410 Juniatta\, Burlington\, KS\, 66839\, United States
CATEGORIES:Burlington
ATTACH;FMTTYPE=image/png:https://cclibks.org/wp-content/uploads/2026/03/Chess-club-webcal-.png
ORGANIZER;CN="Burlington Branch":MAILTO:Burlington@cclibks.org
END:VEVENT
BEGIN:VEVENT
DTSTART;TZID=America/Chicago:20260422T190000
DTEND;TZID=America/Chicago:20260422T200000
DTSTAMP:20260417T200941
CREATED:20260403T212541Z
LAST-MODIFIED:20260403T212541Z
UID:10033467-1776884400-1776888000@cclibks.org
SUMMARY:Book Discussion-Lebo
DESCRIPTION:April 22nd 7:00 pm we will discuss Ruth Ware’s THE LYING GAME.
URL:https://cclibks.org/event/book-discussion-lebo-5/
LOCATION:Lebo Branch\, 327 Ogden\, Lebo\, KS\, 66856\, United States
CATEGORIES:Lebo
ATTACH;FMTTYPE=image/jpeg:https://cclibks.org/wp-content/uploads/2026/04/Copy-of-Copy-of-Easter-Story-Time-800-x-450-px.jpg
ORGANIZER;CN="Lebo Branch":MAILTO:Lebo@cclibks.org
END:VEVENT
BEGIN:VEVENT
DTSTART;TZID=America/Chicago:20260423T090000
DTEND;TZID=America/Chicago:20260423T150000
DTSTAMP:20260417T200941
CREATED:20260121T214534Z
LAST-MODIFIED:20260121T214658Z
UID:10032389-1776934800-1776956400@cclibks.org
SUMMARY:Popcorn Thursdays
DESCRIPTION:Just in case you need an excuse to visit the Lebo Branch\, we have FREE POPCORN every Thursday that school is in session from 9am to 3pm!! It’s delicious!! You don’t want to miss it!! And did we mention that it’s FREE?
URL:https://cclibks.org/event/popcorn-thursdays/2026-04-23/
LOCATION:Lebo Branch\, 327 Ogden\, Lebo\, KS\, 66856\, United States
CATEGORIES:Lebo
ATTACH;FMTTYPE=image/jpeg:https://cclibks.org/wp-content/uploads/2026/01/Sign-up-for-1000-Books-Before-Kindergarten-800-x-450-px-2.jpg
ORGANIZER;CN="Lebo Branch":MAILTO:Lebo@cclibks.org
END:VEVENT
BEGIN:VEVENT
DTSTART;TZID=America/Chicago:20260423T100000
DTEND;TZID=America/Chicago:20260423T103000
DTSTAMP:20260417T200941
CREATED:20251027T160844Z
LAST-MODIFIED:20251119T150800Z
UID:10029572-1776938400-1776940200@cclibks.org
SUMMARY:Storytime
DESCRIPTION:Songs\, Stories\, Craft and a snack!
URL:https://cclibks.org/event/storytime-4-2/2026-04-23/
LOCATION:Waverly Branch\, 608 N Pearson Ave\, Waverly\, KS\, 66871\, United States
CATEGORIES:Waverly
ORGANIZER;CN="Waverly Branch":MAILTO:Waverly@cclibks.org
END:VEVENT
BEGIN:VEVENT
DTSTART;TZID=America/Chicago:20260423T140000
DTEND;TZID=America/Chicago:20260423T150000
DTSTAMP:20260417T200941
CREATED:20260325T195923Z
LAST-MODIFIED:20260325T195923Z
UID:10033326-1776952800-1776956400@cclibks.org
SUMMARY:Cookbook Book Club
DESCRIPTION:Join us for fun with A Recipe for Every Chapter of Your Life cookbook by Coffey County Library and Southeast Kansas Cooking: Favorite recipes from Southeast Kansas Libraries. \nStop in and grab copies of them today!
URL:https://cclibks.org/event/cookbook-book-club/
LOCATION:LeRoy Branch\, 725 Main\, LeRoy\, KS\, 66857\, United States
CATEGORIES:LeRoy
ATTACH;FMTTYPE=image/jpeg:https://cclibks.org/wp-content/uploads/2026/03/COOKBOOK-BOOK-CLUB.jpg
ORGANIZER;CN="LeRoy Branch":MAILTO:LeRoy@cclibks.org
END:VEVENT
BEGIN:VEVENT
DTSTART;TZID=America/Chicago:20260423T173000
DTEND;TZID=America/Chicago:20260423T190000
DTSTAMP:20260417T200941
CREATED:20260324T170128Z
LAST-MODIFIED:20260324T170128Z
UID:10033254-1776965400-1776970800@cclibks.org
SUMMARY:Adult Craft: Lace Painting
DESCRIPTION:This month’s adult craft at the Burlington Branch library will be creating a beautiful painting using doilies or lace fabric as your pattern. Doilies\, canvas and paint will be provided. If you have doilies or lace of your own that you’d like to paint\, please bring! Registration appreciated\, but not required.
URL:https://cclibks.org/event/adult-craft-lace-painting/
LOCATION:Burlington Branch\, 410 Juniatta\, Burlington\, KS\, 66839\, United States
CATEGORIES:Burlington
ATTACH;FMTTYPE=image/png:https://cclibks.org/wp-content/uploads/2026/03/Adult-Craft-webcal-04-23-26.png
ORGANIZER;CN="Burlington Branch":MAILTO:Burlington@cclibks.org
END:VEVENT
BEGIN:VEVENT
DTSTART;TZID=America/Chicago:20260424T090000
DTEND;TZID=America/Chicago:20260424T100000
DTSTAMP:20260417T200941
CREATED:20250404T212917Z
LAST-MODIFIED:20250404T212917Z
UID:10029646-1777021200-1777024800@cclibks.org
SUMMARY:Exercise Class
DESCRIPTION:Lebo Branch is hosting an exercise class for adults each Monday and Friday from 9-10 a.m. through May 10th!! We use hand and ankle weights with a slow lifting technique to maximize muscle growth and retention.  The exercises are meant to improve balance and flexibility as well!! We also do a little dancing and have a lot of fun!!  There is no cost to participate. Leg weights and some hand weights are available to use during the class! We’d love it if you could join us and give the class a try!!
URL:https://cclibks.org/event/exercise-class/2026-04-24/
LOCATION:Lebo Branch\, 327 Ogden\, Lebo\, KS\, 66856\, United States
CATEGORIES:Lebo
ATTACH;FMTTYPE=image/jpeg:https://cclibks.org/wp-content/uploads/2024/08/Adult-Exercise-Class-Lebo.jpg
ORGANIZER;CN="Lebo Branch":MAILTO:Lebo@cclibks.org
END:VEVENT
BEGIN:VEVENT
DTSTART;TZID=America/Chicago:20260424T110000
DTEND;TZID=America/Chicago:20260424T120000
DTSTAMP:20260417T200941
CREATED:20250217T195555Z
LAST-MODIFIED:20260406T170332Z
UID:10029786-1777028400-1777032000@cclibks.org
SUMMARY:Friday Fun!
DESCRIPTION:Join us at the Gridley Library to read stories and create fun crafts! All ages are welcome!
URL:https://cclibks.org/event/friday-fun-20/2026-04-24/
LOCATION:Gridley Branch\, 512 Main\, Gridley\, KS\, 66852\, United States
CATEGORIES:Gridley
ATTACH;FMTTYPE=image/png:https://cclibks.org/wp-content/uploads/2025/02/Friday-Fun.png
ORGANIZER;CN="Gridley Branch":MAILTO:Gridley@cclibks.org
END:VEVENT
BEGIN:VEVENT
DTSTART;TZID=America/Chicago:20260424T130000
DTEND;TZID=America/Chicago:20260424T140000
DTSTAMP:20260417T200941
CREATED:20260325T143121Z
LAST-MODIFIED:20260325T143121Z
UID:10033316-1777035600-1777039200@cclibks.org
SUMMARY:Pollinator Palooza
DESCRIPTION:Pollinator games and butterfly release. All ages welcome!
URL:https://cclibks.org/event/pollinator-palooza/
LOCATION:New Strawn Branch\, 365 N Main\, New Strawn\, KS\, 66839\, United States
CATEGORIES:New Strawn
ATTACH;FMTTYPE=image/png:https://cclibks.org/wp-content/uploads/2026/03/Pollinator-Palooza-800-x-450-px.png
ORGANIZER;CN="New Strawn Branch":MAILTO:NewStrawn@cclibks.org
END:VEVENT
END:VCALENDAR